BEGIN:VCALENDAR
VERSION:2.0
PRODID:-//schweizeraktien.net - ECPv6.15.20//NONSGML v1.0//EN
CALSCALE:GREGORIAN
METHOD:PUBLISH
X-WR-CALNAME:schweizeraktien.net
X-ORIGINAL-URL:https://www.schweizeraktien.net
X-WR-CALDESC:Veranstaltungen für schweizeraktien.net
REFRESH-INTERVAL;VALUE=DURATION:PT1H
X-Robots-Tag:noindex
X-PUBLISHED-TTL:PT1H
BEGIN:VTIMEZONE
TZID:Europe/Berlin
BEGIN:DAYLIGHT
TZOFFSETFROM:+0100
TZOFFSETTO:+0200
TZNAME:CEST
DTSTART:20250330T010000
END:DAYLIGHT
BEGIN:STANDARD
TZOFFSETFROM:+0200
TZOFFSETTO:+0100
TZNAME:CET
DTSTART:20251026T010000
END:STANDARD
BEGIN:DAYLIGHT
TZOFFSETFROM:+0100
TZOFFSETTO:+0200
TZNAME:CEST
DTSTART:20260329T010000
END:DAYLIGHT
BEGIN:STANDARD
TZOFFSETFROM:+0200
TZOFFSETTO:+0100
TZNAME:CET
DTSTART:20261025T010000
END:STANDARD
BEGIN:DAYLIGHT
TZOFFSETFROM:+0100
TZOFFSETTO:+0200
TZNAME:CEST
DTSTART:20270328T010000
END:DAYLIGHT
BEGIN:STANDARD
TZOFFSETFROM:+0200
TZOFFSETTO:+0100
TZNAME:CET
DTSTART:20271031T010000
END:STANDARD
END:VTIMEZONE
BEGIN:VEVENT
DTSTART;TZID=Europe/Berlin:20260425T103000
DTEND;TZID=Europe/Berlin:20260425T143000
DTSTAMP:20260424T043006
CREATED:20260210T162814Z
LAST-MODIFIED:20260210T163235Z
UID:71602-1777113000-1777127400@www.schweizeraktien.net
SUMMARY:Bank Oberaargau
DESCRIPTION:
URL:https://www.schweizeraktien.net/event/bank-oberaargau/
LOCATION:Campus Perspektiven\, Dörfli 6\, 4953 Schwarzenbach
CATEGORIES:Generalversammlung,Nichtkotiert
ORGANIZER;CN="Bank Oberaargau":MAILTO:info@bankoberaargau.ch
END:VEVENT
BEGIN:VEVENT
DTSTART;TZID=Europe/Berlin:20260428T131500
DTEND;TZID=Europe/Berlin:20260428T170000
DTSTAMP:20260424T043006
CREATED:20260211T104231Z
LAST-MODIFIED:20260211T104231Z
UID:71682-1777382100-1777395600@www.schweizeraktien.net
SUMMARY:Loeb Holding
DESCRIPTION:
URL:https://www.schweizeraktien.net/event/loeb-holding/
LOCATION:Kursaal Bern\, Kornhausstrasse 3\, 3013 Bern
CATEGORIES:Generalversammlung,Nichtkotiert
ORGANIZER;CN="Loeb Holding":MAILTO: info@loeb.ch
END:VEVENT
BEGIN:VEVENT
DTSTART;TZID=Europe/Berlin:20260429T173000
DTEND;TZID=Europe/Berlin:20260429T213000
DTSTAMP:20260424T043006
CREATED:20260211T095124Z
LAST-MODIFIED:20260211T095124Z
UID:71657-1777483800-1777498200@www.schweizeraktien.net
SUMMARY:Griesser
DESCRIPTION:
URL:https://www.schweizeraktien.net/event/griesser/
LOCATION:Evencenter Griesser AG\, Tänikonerstrasse 3\, Aadorf\, 8355\, Schweiz
CATEGORIES:Generalversammlung,Nichtkotiert
ORGANIZER;CN="Griesser Holding AG":MAILTO:info@griesser.ch
END:VEVENT
BEGIN:VEVENT
DTSTART;TZID=Europe/Berlin:20260501T180000
DTEND;TZID=Europe/Berlin:20260501T220000
DTSTAMP:20260424T043006
CREATED:20260211T093126Z
LAST-MODIFIED:20260211T093126Z
UID:71648-1777658400-1777672800@www.schweizeraktien.net
SUMMARY:EW Jona-Rapperswil
DESCRIPTION:
URL:https://www.schweizeraktien.net/event/ew-jona-rapperswil/
LOCATION:Stadtsaal Kreuz\, St. Gallerstrasse 30\, 8645 Jona
CATEGORIES:Generalversammlung,Nichtkotiert
ORGANIZER;CN="EW Jona-Rapperswil":MAILTO:info@ewjr.ch
END:VEVENT
BEGIN:VEVENT
DTSTART;TZID=Europe/Berlin:20260505T110000
DTEND;TZID=Europe/Berlin:20260505T150000
DTSTAMP:20260424T043006
CREATED:20260211T094118Z
LAST-MODIFIED:20260211T094118Z
UID:71654-1777978800-1777993200@www.schweizeraktien.net
SUMMARY:Grand Resort Bad Ragaz
DESCRIPTION:
URL:https://www.schweizeraktien.net/event/grand-resort-bad-ragaz-2/
LOCATION:Grand Resort Bad Ragaz\, Bernhard-Simon-Strasse 2\, 7310 Bad Ragaz
CATEGORIES:Generalversammlung,Nichtkotiert
END:VEVENT
BEGIN:VEVENT
DTSTART;TZID=Europe/Berlin:20260506T153000
DTEND;TZID=Europe/Berlin:20260506T183000
DTSTAMP:20260424T043006
CREATED:20260216T105330Z
LAST-MODIFIED:20260216T105408Z
UID:71769-1778081400-1778092200@www.schweizeraktien.net
SUMMARY:Reishauer AG
DESCRIPTION:
URL:https://www.schweizeraktien.net/event/reishauer-ag/
LOCATION:Mehrzweckgebäude Reishauer AG\, Industriestrasse 40\, Wallisellen\, 8304\, Switzerland
CATEGORIES:Generalversammlung,Nichtkotiert
ORGANIZER;CN="Reishauer AG":MAILTO:|info@reishauer.com
END:VEVENT
BEGIN:VEVENT
DTSTART;TZID=Europe/Berlin:20260506T160000
DTEND;TZID=Europe/Berlin:20260506T200000
DTSTAMP:20260424T043006
CREATED:20251216T110308Z
LAST-MODIFIED:20251216T121347Z
UID:70878-1778083200-1778097600@www.schweizeraktien.net
SUMMARY:Bad Schinznach AG
DESCRIPTION:
URL:https://www.schweizeraktien.net/event/bad-schinznach-ag-3/
LOCATION:Turnhalle Schinznach-Bad\, Schulhausstrasse 31\, 5116 Schinznach-Bad
CATEGORIES:Generalversammlung,Nichtkotiert
ORGANIZER;CN="Bad Schinznach AG":MAILTO:info@bs-ag.ch
END:VEVENT
BEGIN:VEVENT
DTSTART;TZID=Europe/Berlin:20260506T173000
DTEND;TZID=Europe/Berlin:20260506T213000
DTSTAMP:20260424T043006
CREATED:20260211T081129Z
LAST-MODIFIED:20260211T081129Z
UID:71627-1778088600-1778103000@www.schweizeraktien.net
SUMMARY:CasaInvest Rheintal AG
DESCRIPTION:
URL:https://www.schweizeraktien.net/event/casainvest-rheintal-ag-3/
LOCATION:Widebaumsaal Metropol\, Bahnhofstrasse 26\, 9443 Widnau
CATEGORIES:Generalversammlung,Nichtkotiert
ORGANIZER;CN="CasaInvest Rheintal AG":MAILTO:info@casainvest.ch
END:VEVENT
BEGIN:VEVENT
DTSTART;TZID=Europe/Berlin:20260506T181500
DTEND;TZID=Europe/Berlin:20260506T220000
DTSTAMP:20260424T043006
CREATED:20260210T161225Z
LAST-MODIFIED:20260210T161225Z
UID:71595-1778091300-1778104800@www.schweizeraktien.net
SUMMARY:Auto AG Holding
DESCRIPTION:
URL:https://www.schweizeraktien.net/event/auto-ag-holding/
LOCATION:Chärnshalle\, Chärnsmatt 5\, 6023 Rothenburg
CATEGORIES:Generalversammlung,Nichtkotiert
ORGANIZER;CN="Auto AG Holding":MAILTO:info@autoag.ch
END:VEVENT
BEGIN:VEVENT
DTSTART;TZID=Europe/Berlin:20260507T153000
DTEND;TZID=Europe/Berlin:20260507T193000
DTSTAMP:20260424T043006
CREATED:20260211T082641Z
LAST-MODIFIED:20260211T082641Z
UID:71630-1778167800-1778182200@www.schweizeraktien.net
SUMMARY:Cendres & Metaux
DESCRIPTION:
URL:https://www.schweizeraktien.net/event/cendres-metaux/
LOCATION:Switzerland Innovation Park\, Aarbergstrasse 46\, 2503 Biel
CATEGORIES:Generalversammlung,Nichtkotiert
ORGANIZER;CN="Cendres & Metaux":MAILTO:info@cmsa.ch
END:VEVENT
BEGIN:VEVENT
DTSTART;TZID=Europe/Berlin:20260507T163000
DTEND;TZID=Europe/Berlin:20260507T203000
DTSTAMP:20260424T043006
CREATED:20260211T100016Z
LAST-MODIFIED:20260211T100016Z
UID:71659-1778171400-1778185800@www.schweizeraktien.net
SUMMARY:Geoterra Holding
DESCRIPTION:
URL:https://www.schweizeraktien.net/event/geoterra-holding/
LOCATION:Seedamm Plaza\, Seedammstrasse 3\, Pfäffikon SZ\, 8808
CATEGORIES:Generalversammlung,Nichtkotiert
END:VEVENT
BEGIN:VEVENT
DTSTART;TZID=Europe/Berlin:20260507T170000
DTEND;TZID=Europe/Berlin:20260507T200000
DTSTAMP:20260424T043006
CREATED:20260216T131750Z
LAST-MODIFIED:20260216T131750Z
UID:71812-1778173200-1778184000@www.schweizeraktien.net
SUMMARY:WWZ
DESCRIPTION:
URL:https://www.schweizeraktien.net/event/wwz/
LOCATION:Bossard Arena\, General-Guisan-Strasse 4\, 6300 Zug
CATEGORIES:Generalversammlung,Nichtkotiert
ORGANIZER;CN="WWZ":MAILTO:investoren@wwz.ch
END:VEVENT
BEGIN:VEVENT
DTSTART;TZID=Europe/Berlin:20260508T180000
DTEND;TZID=Europe/Berlin:20260508T210000
DTSTAMP:20260424T043006
CREATED:20260216T133859Z
LAST-MODIFIED:20260216T133940Z
UID:71822-1778263200-1778274000@www.schweizeraktien.net
SUMMARY:Zürcher Oberland Medien
DESCRIPTION:
URL:https://www.schweizeraktien.net/event/zuercher-oberland-medien/
LOCATION:Garten Center Meier\, Kreuzstrasse 2\, Dürnten\, 8635
CATEGORIES:Generalversammlung,Nichtkotiert
ORGANIZER;CN="Z%C3%BCrcher Oberland Medien":MAILTO:zo.medien@zol.ch
END:VEVENT
BEGIN:VEVENT
DTSTART;TZID=Europe/Berlin:20260512T170000
DTEND;TZID=Europe/Berlin:20260512T210000
DTSTAMP:20260424T043006
CREATED:20260211T100333Z
LAST-MODIFIED:20260211T100333Z
UID:71663-1778605200-1778619600@www.schweizeraktien.net
SUMMARY:Griston Holding AG
DESCRIPTION:
URL:https://www.schweizeraktien.net/event/griston-holding-ag-3/
LOCATION:Mehrzweckhalle Untervaz\, Laurenziusweg 2\, 7204 Untervaz
CATEGORIES:Generalversammlung,Nichtkotiert
ORGANIZER;CN="Griston Holding AG":MAILTO: info@griston.ch
END:VEVENT
BEGIN:VEVENT
DTSTART;TZID=Europe/Berlin:20260513T103000
DTEND;TZID=Europe/Berlin:20260513T133000
DTSTAMP:20260424T043006
CREATED:20260216T110421Z
LAST-MODIFIED:20260216T110421Z
UID:71773-1778668200-1778679000@www.schweizeraktien.net
SUMMARY:Repower AG
DESCRIPTION:
URL:https://www.schweizeraktien.net/event/repower-ag-2/
LOCATION:Kultur- und Kongresszentrum Rondo\, Via Maistra 133\, Pontresina\, 7504\, Switzerland
CATEGORIES:Generalversammlung,Nichtkotiert
ORGANIZER;CN="Repower":MAILTO:hello@repower.com
END:VEVENT
BEGIN:VEVENT
DTSTART;TZID=Europe/Berlin:20260519T163000
DTEND;TZID=Europe/Berlin:20260519T193000
DTSTAMP:20260424T043006
CREATED:20260216T112033Z
LAST-MODIFIED:20260216T112033Z
UID:71783-1779208200-1779219000@www.schweizeraktien.net
SUMMARY:SGV Holding AG
DESCRIPTION:
URL:https://www.schweizeraktien.net/event/sgv-holding-ag-3/
LOCATION:Messe Luzern\, Horwerstrasse 87\, 6005 Luzern
CATEGORIES:Generalversammlung,Nichtkotiert
ORGANIZER;CN="SGV Holding AG":MAILTO:info@sgvholding.ch
END:VEVENT
BEGIN:VEVENT
DTSTART;TZID=Europe/Berlin:20260520T170000
DTEND;TZID=Europe/Berlin:20260520T200000
DTSTAMP:20260424T043006
CREATED:20260216T130316Z
LAST-MODIFIED:20260216T130347Z
UID:71806-1779296400-1779307200@www.schweizeraktien.net
SUMMARY:Thermalbad Zurzach AG
DESCRIPTION:
URL:https://www.schweizeraktien.net/event/thermalbad-zurzach-ag-2/
LOCATION:Gemeindezentrum Langwies Bad Zurzch\, Langwiesstrasse 9\, Bad Zurzach
CATEGORIES:Generalversammlung,Nichtkotiert
END:VEVENT
BEGIN:VEVENT
DTSTART;TZID=Europe/Berlin:20260521T173000
DTEND;TZID=Europe/Berlin:20260521T213000
DTSTAMP:20260424T043006
CREATED:20260211T091729Z
LAST-MODIFIED:20260211T091729Z
UID:71642-1779384600-1779399000@www.schweizeraktien.net
SUMMARY:Eniwa AG
DESCRIPTION:
URL:https://www.schweizeraktien.net/event/eniwa-ag-2/
LOCATION:Eniwa AG\, Industriestrasse 25\, 5033 Buchs
CATEGORIES:Generalversammlung,Nichtkotiert
ORGANIZER;CN="Eniwa AG":MAILTO:info@eniwa.ch
END:VEVENT
BEGIN:VEVENT
DTSTART;TZID=Europe/Berlin:20260523T103000
DTEND;TZID=Europe/Berlin:20260523T143000
DTSTAMP:20260424T043006
CREATED:20260210T165542Z
LAST-MODIFIED:20260210T165542Z
UID:71611-1779532200-1779546600@www.schweizeraktien.net
SUMMARY:Bernerland Bank\, Sumiswald
DESCRIPTION:
URL:https://www.schweizeraktien.net/event/bernerland-bank-sumiswald/
LOCATION:Emmental Versicherung Arena\, Güterstrasse 14\, 3550 Langnau im Emmental\, Switzerland
CATEGORIES:Generalversammlung,Nichtkotiert
ORGANIZER;CN="Bernerland Bank%2C Sumiswald":MAILTO:info@bernerlandbank.ch
END:VEVENT
BEGIN:VEVENT
DTSTART;TZID=Europe/Berlin:20260527T110000
DTEND;TZID=Europe/Berlin:20260527T150000
DTSTAMP:20260424T043006
CREATED:20260211T075503Z
LAST-MODIFIED:20260211T075503Z
UID:71618-1779879600-1779894000@www.schweizeraktien.net
SUMMARY:BERNEXPO Groupe
DESCRIPTION:
URL:https://www.schweizeraktien.net/event/bernexpo-groupe/
LOCATION:Bernexpo\, Mingerstrasse 6\, 3014 Bern
CATEGORIES:Generalversammlung,Nichtkotiert
ORGANIZER;CN="BERNEXPO Groupe":MAILTO:info@bernexpo.ch
END:VEVENT
BEGIN:VEVENT
DTSTART;TZID=Europe/Berlin:20260529T100000
DTEND;TZID=Europe/Berlin:20260529T120000
DTSTAMP:20260424T043006
CREATED:20260410T051508Z
LAST-MODIFIED:20260410T054150Z
UID:72654-1780048800-1780056000@www.schweizeraktien.net
SUMMARY:Nebag AG
DESCRIPTION:
URL:https://www.schweizeraktien.net/event/nebag-ag-2/
LOCATION:Zunfthaus zur Zimmerleuten\, Limmatquai 40\, Zürich\, 8001\, Schweiz
CATEGORIES:Generalversammlung,Kotiert
ORGANIZER;CN="Nebag AG":MAILTO:info@nebag.ch
END:VEVENT
BEGIN:VEVENT
DTSTART;TZID=Europe/Berlin:20260529T160000
DTEND;TZID=Europe/Berlin:20260529T190000
DTSTAMP:20260424T043006
CREATED:20260216T130955Z
LAST-MODIFIED:20260216T131113Z
UID:71809-1780070400-1780081200@www.schweizeraktien.net
SUMMARY:Weiss+Appetito
DESCRIPTION:
URL:https://www.schweizeraktien.net/event/weissappetito/
LOCATION:Bernexpo\, Mingerstrasse 6\, 3014 Bern
CATEGORIES:Generalversammlung,Nichtkotiert
END:VEVENT
BEGIN:VEVENT
DTSTART;TZID=Europe/Berlin:20260602T180000
DTEND;TZID=Europe/Berlin:20260602T220000
DTSTAMP:20260424T043006
CREATED:20251216T122659Z
LAST-MODIFIED:20251216T122659Z
UID:70883-1780423200-1780437600@www.schweizeraktien.net
SUMMARY:Kursaal-Casino Luzern AG
DESCRIPTION:
URL:https://www.schweizeraktien.net/event/kursaal-casino-luzern-ag/
LOCATION:Grand Casino Luzern\, Haldenstrasse 6\, 6006 Luzern
CATEGORIES:Generalversammlung,Nichtkotiert
ORGANIZER;CN="Kursaal-Casino AG Luzern":MAILTO:info@grandcasinoluzern.ch
END:VEVENT
BEGIN:VEVENT
DTSTART;TZID=Europe/Berlin:20260603T173000
DTEND;TZID=Europe/Berlin:20260603T213000
DTSTAMP:20260424T043006
CREATED:20260211T105342Z
LAST-MODIFIED:20260211T105342Z
UID:71686-1780507800-1780522200@www.schweizeraktien.net
SUMMARY:Lurag AG\, Neuenkirch
DESCRIPTION:
URL:https://www.schweizeraktien.net/event/lurag-ag-neuenkirch/
LOCATION:Festhalle Sempach\, Seestrasse 16\, 6204 Sempach
CATEGORIES:Generalversammlung,Nichtkotiert
END:VEVENT
BEGIN:VEVENT
DTSTART;TZID=Europe/Berlin:20260605T110000
DTEND;TZID=Europe/Berlin:20260605T150000
DTSTAMP:20260424T043006
CREATED:20260211T102228Z
LAST-MODIFIED:20260211T102228Z
UID:71672-1780657200-1780671600@www.schweizeraktien.net
SUMMARY:Lagerhäuser der Centralschweiz
DESCRIPTION:
URL:https://www.schweizeraktien.net/event/lagerhaeuser-der-centralschweiz/
LOCATION:Aeschbachhalle\, Aeschbachweg 8\, Aarau\, 5000\, Switzerland
CATEGORIES:Generalversammlung,Nichtkotiert
END:VEVENT
BEGIN:VEVENT
DTSTART;TZID=Europe/Berlin:20260606T110000
DTEND;TZID=Europe/Berlin:20260606T150000
DTSTAMP:20260424T043006
CREATED:20260211T101654Z
LAST-MODIFIED:20260211T101654Z
UID:71669-1780743600-1780758000@www.schweizeraktien.net
SUMMARY:Kongress- und Kursaal AG\, Bern
DESCRIPTION:
URL:https://www.schweizeraktien.net/event/kongress-und-kursaal-ag-bern/
LOCATION:Kursaal Bern\, Kornhausstrasse 3\, 3013 Bern
CATEGORIES:Generalversammlung,Nichtkotiert
ORGANIZER;CN="Kongress- und Kursaal AG%2C Bern":MAILTO:investoren@kursaal‑bern.ch
END:VEVENT
BEGIN:VEVENT
DTSTART;TZID=Europe/Berlin:20260609T110000
DTEND;TZID=Europe/Berlin:20260609T150000
DTSTAMP:20260424T043006
CREATED:20260211T091142Z
LAST-MODIFIED:20260211T091142Z
UID:71639-1781002800-1781017200@www.schweizeraktien.net
SUMMARY:Dolder Hotel AG
DESCRIPTION:
URL:https://www.schweizeraktien.net/event/dolder-hotel-ag-3/
LOCATION:Dolder Hotel\, Kurhausstrasse 65\, 8032 Zürich
CATEGORIES:Generalversammlung,Nichtkotiert
ORGANIZER;CN="Dolder Hotel AG":MAILTO:info@dolderhotelag.com
END:VEVENT
BEGIN:VEVENT
DTSTART;TZID=Europe/Berlin:20260610T170000
DTEND;TZID=Europe/Berlin:20260610T200000
DTSTAMP:20260424T043006
CREATED:20260216T113653Z
LAST-MODIFIED:20260216T113653Z
UID:71795-1781110800-1781121600@www.schweizeraktien.net
SUMMARY:Stadtcasino Baden AG
DESCRIPTION:
URL:https://www.schweizeraktien.net/event/stadtcasino-baden-ag-3/
LOCATION:Trafo Baden\, Brown Boveri Pl. 1\, 5400 Baden
CATEGORIES:Generalversammlung,Nichtkotiert
ORGANIZER;CN="Stadtcasino Baden AG":MAILTO:info@stadtcasinobaden.ch
END:VEVENT
BEGIN:VEVENT
DTSTART;VALUE=DATE:20260615
DTEND;VALUE=DATE:20260616
DTSTAMP:20260424T043006
CREATED:20260211T083704Z
LAST-MODIFIED:20260211T083704Z
UID:71633-1781481600-1781567999@www.schweizeraktien.net
SUMMARY:Congress Centre Kursaal Interlaken
DESCRIPTION:
URL:https://www.schweizeraktien.net/event/congress-centre-kursaal-interlaken/
LOCATION:Congress Kursaal Interlaken\, Strandbadstrasse 44\, 3800 Interlaken\, Schweiz
CATEGORIES:Generalversammlung,Nichtkotiert
ORGANIZER;CN="Congress Centre Kursaal Interlaken":MAILTO:info@congress-interlaken.ch
END:VEVENT
BEGIN:VEVENT
DTSTART;TZID=Europe/Berlin:20260617T171500
DTEND;TZID=Europe/Berlin:20260617T211500
DTSTAMP:20260424T043006
CREATED:20260211T093444Z
LAST-MODIFIED:20260211T093444Z
UID:71651-1781716500-1781730900@www.schweizeraktien.net
SUMMARY:Flughafen Bern
DESCRIPTION:
URL:https://www.schweizeraktien.net/event/flughafen-bern/
LOCATION:Flughafen Bern\, Flugplatzstrasse 31\, 3123 Belp
CATEGORIES:Generalversammlung,Nichtkotiert
ORGANIZER;CN="Flughafen Bern":MAILTO:info@bernairport.ch
END:VEVENT
END:VCALENDAR